BEGIN:VCALENDAR
VERSION:2.0
PRODID:-//ATI Foundation - ECPv6.15.20//NONSGML v1.0//EN
CALSCALE:GREGORIAN
METHOD:PUBLISH
X-WR-CALNAME:ATI Foundation
X-ORIGINAL-URL:https://atifoundation.com
X-WR-CALDESC:Events for ATI Foundation
REFRESH-INTERVAL;VALUE=DURATION:PT1H
X-Robots-Tag:noindex
X-PUBLISHED-TTL:PT1H
BEGIN:VTIMEZONE
TZID:America/Detroit
BEGIN:DAYLIGHT
TZOFFSETFROM:-0500
TZOFFSETTO:-0400
TZNAME:EDT
DTSTART:20220313T070000
END:DAYLIGHT
BEGIN:STANDARD
TZOFFSETFROM:-0400
TZOFFSETTO:-0500
TZNAME:EST
DTSTART:20221106T060000
END:STANDARD
BEGIN:DAYLIGHT
TZOFFSETFROM:-0500
TZOFFSETTO:-0400
TZNAME:EDT
DTSTART:20230312T070000
END:DAYLIGHT
BEGIN:STANDARD
TZOFFSETFROM:-0400
TZOFFSETTO:-0500
TZNAME:EST
DTSTART:20231105T060000
END:STANDARD
BEGIN:DAYLIGHT
TZOFFSETFROM:-0500
TZOFFSETTO:-0400
TZNAME:EDT
DTSTART:20240310T070000
END:DAYLIGHT
BEGIN:STANDARD
TZOFFSETFROM:-0400
TZOFFSETTO:-0500
TZNAME:EST
DTSTART:20241103T060000
END:STANDARD
END:VTIMEZONE
BEGIN:VEVENT
DTSTART;TZID=America/Detroit:20231021T140000
DTEND;TZID=America/Detroit:20231021T190000
DTSTAMP:20260421T151408
CREATED:20230905T195104Z
LAST-MODIFIED:20231017T185154Z
UID:81-1697896800-1697914800@atifoundation.com
SUMMARY:Michigan Match-Up
DESCRIPTION:Join us for our tailgate party to celebrate the ultimate Midwest Rivalry: Michigan vs. Michigan State! \nAll tickets include: tailgate-themed bites\, served buffet style\, entry to the cornhole tournament\, two (2) drink tickets\, two (2) raffle tickets\, and more! Purchase your tickets here! \n  \n 
URL:https://atifoundation.com/event/aut-do-minus-delectu/
LOCATION:Draft Kings Sport & Social\, 2850 Coolidge Highway\, Troy\, MI\, 48084\, United States
ATTACH;FMTTYPE=image/png:https://atifoundation.com/wp-content/uploads/2023/10/featured-image-for-blog-posts-2.png
ORGANIZER;CN="ATI Foundation":MAILTO:atifoundation@atipt.com
END:VEVENT
END:VCALENDAR